BEGIN:VCALENDAR
VERSION:2.0
PRODID:-//Cindy Gale - ECPv6.15.20//NONSGML v1.0//EN
CALSCALE:GREGORIAN
METHOD:PUBLISH
X-WR-CALNAME:Cindy Gale
X-ORIGINAL-URL:https://cindygalehsp.com
X-WR-CALDESC:Events for Cindy Gale
REFRESH-INTERVAL;VALUE=DURATION:PT1H
X-Robots-Tag:noindex
X-PUBLISHED-TTL:PT1H
BEGIN:VTIMEZONE
TZID:UTC
BEGIN:STANDARD
TZOFFSETFROM:+0000
TZOFFSETTO:+0000
TZNAME:UTC
DTSTART:20220101T000000
END:STANDARD
END:VTIMEZONE
BEGIN:VEVENT
DTSTART;TZID=UTC:20230401T120000
DTEND;TZID=UTC:20230401T133000
DTSTAMP:20260425T200633
CREATED:20230221T124316Z
LAST-MODIFIED:20230223T184658Z
UID:2100-1680350400-1680355800@cindygalehsp.com
SUMMARY:HSP Community Connect
DESCRIPTION:New accessible fee structure\, read below \nCome and explore\, share or listen with other HSPs in a safe space where your normal character trait is understood and validated. Meet old friends and welcome new ones. \nElaine Aron talks of 5 things that every HSP needs to thrive. We’ll explore some of these during our time together. They are: \n\nTo know your trait is real\nTo reframe your past in light of it\nTo heal from past traumas\nTo design a life that is compatible with it\nTo meet other HSPs\n\nDetails of the meeting:\nFacilitated gently by Cindy so that you can relax as much as possible and enjoy the time together with other HSPs. There is no pressure for you to speak\, you are welcome to just sit and listen. This is an opportunity to share ideas and tips on living life to the full as an HSP\, and to ask any questions. It is held in a supportive and safe way. If you want to leave earlier that’s OK\, just leave whenever you need to. We will start with a short guided meditation to bring us together. \nMaximum group size will be 12. \nTechie stuff:\nThe call will take place on Zoom\, you will get the link after you have bought a ticket. On entry you’ll be muted automatically so we better hear one another. I’ll offer the structure of the call at the start. Please enter the Zoom call a few minutes before 12.00pm. You’ll be in the waiting room and I’ll let people in individually. This takes about 3 minutes. \nSometimes the Zoom link here doesn’t work. If this happens try either copying and pasting this link into your browser\, or click the link in the email reminder rather than the link here. It’s a Meetup glitch! \nPlease make sure your video and sound works. We need to see you. \nPayment:\nThe suggested fee is £12 and I want these meetings to be available to all so if you need to pay less\, please email me and I will send you my Paypal link where you can enter whatever you can afford. \nAbout Cindy: \nI’m a psychotherapist. I have been working with HSPs for 8 years supporting them to flourish\, understand and harmonise their relationship with themselves and others.
URL:https://cindygalehsp.com/event/hsp-community-connect-online/
LOCATION:Online
ATTACH;FMTTYPE=image/png:https://cindygalehsp.com/wp-content/uploads/2023/02/HSP-deep-listening.png
ORGANIZER;CN="Cindy Gale":MAILTO:cindy@cindygalehsp.com
END:VEVENT
END:VCALENDAR