BEGIN:VCALENDAR
VERSION:2.0
PRODID:-//Cindy Gale - ECPv6.15.20//NONSGML v1.0//EN
CALSCALE:GREGORIAN
METHOD:PUBLISH
X-WR-CALNAME:Cindy Gale
X-ORIGINAL-URL:https://cindygalehsp.com
X-WR-CALDESC:Events for Cindy Gale
REFRESH-INTERVAL;VALUE=DURATION:PT1H
X-Robots-Tag:noindex
X-PUBLISHED-TTL:PT1H
BEGIN:VTIMEZONE
TZID:UTC
BEGIN:STANDARD
TZOFFSETFROM:+0000
TZOFFSETTO:+0000
TZNAME:UTC
DTSTART:20230101T000000
END:STANDARD
END:VTIMEZONE
BEGIN:VEVENT
DTSTART;TZID=UTC:20241207T140000
DTEND;TZID=UTC:20241207T160000
DTSTAMP:20260424T153353
CREATED:20241017T071811Z
LAST-MODIFIED:20241202T124850Z
UID:3063-1733580000-1733587200@cindygalehsp.com
SUMMARY:HSP Café\, London
DESCRIPTION:Get Tickets \nAre you someone who notices the subtle hues of emotions\, feels the symphony of the surroundings\, and often finds solace in the quiet corners of your mind? You might be a Highly Sensitive Person\, and this drop-in café is your refuge. \nStep into a space crafted with care\, understanding\, and warmth\, where we invite you to embrace your unique trait and connect with kindred spirits who understand the beauty of depth and the strength in vulnerability. In our HSP Café\, conversations flow and connections are forged on the common ground of shared sensitivity. Whether you seek a moment of quiet reflection\, a heart-to-heart with fellow HSPs\, or just the comfort of knowing you’re not alone\, our doors are wide open for you. \nCome\, join us for a cuppa and cake in an atmosphere where being sensitive is not just accepted but celebrated. Ask questions\, share experiences\, or just listen. The HSP Café is more than a space; it’s a community\, a haven\, and a reminder that sensitivity is a beautiful facet of the human experience. \nCome and drop in anytime and stay for as long or as little as you like. It is very relaxed and there is no pressure to join in and chat\, you are welcome to be with us and listen if you prefer. \nHow to find us \nWe’ll meet at Sacred Grounds Café\, St Anne’s Church\, 55 Dean Street\, Soho\, London\, W1D 6AF \nEvent fee \n£5 covers the cost of the venue\, drinks and cake. \nWhat is High Sensitivity? \nDiscovered by Dr. Elaine Aron 25 years ago\, her research revealed that this trait is found in 20% of all people. It’s characterised by a finely tuned nervous system and an acute awareness of subtleties. It’s not just a personality quirk; it’s a neurological difference that brings with it a unique set of strengths and challenges. HSPs process the world around them very deeply\, have strong emotional responses and are naturally very empathic. HSPs get overstimulated easily and often have sensory sensitivity to things such as food\, noise\, lighting etc. \nIf you’re curious about the HSP trait you can take the self-test here. HSPs are known as Orchids in this model. https://sensitivityresearch.com/self-tests/adult-self-test/ \nAbout Cindy: \nI’m an HSP and a psychotherapist. I know from my own and other’s experiences how vital it is for HSPs to meet other HSPs to validate and normalise the trait. I’ve have been working with HSPs for 12 years supporting them to flourish\, understand and harmonise their relationship with themselves and others. \nI founded the community group HSPconnect.uk for HSPs to find others\, connect and build friendships. I also hold therapeutic sharing circles for HSPs within the group.
URL:https://cindygalehsp.com/event/hsp-cafe-london/
LOCATION:Sacred Grounds\, 54 Dean Street\, London\, W1D 6AE\, United Kingdom
ATTACH;FMTTYPE=image/jpeg:https://cindygalehsp.com/wp-content/uploads/2023/02/highres_503520728-1.jpeg
ORGANIZER;CN="Cindy Gale":MAILTO:cindy@cindygalehsp.com
END:VEVENT
END:VCALENDAR