BEGIN:VCALENDAR
VERSION:2.0
PRODID:-//Cindy Gale - ECPv6.15.20//NONSGML v1.0//EN
CALSCALE:GREGORIAN
METHOD:PUBLISH
X-WR-CALNAME:Cindy Gale
X-ORIGINAL-URL:https://cindygalehsp.com
X-WR-CALDESC:Events for Cindy Gale
REFRESH-INTERVAL;VALUE=DURATION:PT1H
X-Robots-Tag:noindex
X-PUBLISHED-TTL:PT1H
BEGIN:VTIMEZONE
TZID:UTC
BEGIN:STANDARD
TZOFFSETFROM:+0000
TZOFFSETTO:+0000
TZNAME:UTC
DTSTART:20240101T000000
END:STANDARD
END:VTIMEZONE
BEGIN:VEVENT
DTSTART;TZID=UTC:20250704T173000
DTEND;TZID=UTC:20250704T190000
DTSTAMP:20260424T050430
CREATED:20250620T084714Z
LAST-MODIFIED:20250620T094850Z
UID:3238-1751650200-1751655600@cindygalehsp.com
SUMMARY:Reduce People-Pleasing as a Highly Sensitive Person and Reclaim Your Life
DESCRIPTION:Get Tickets \n\n\nAre you a Highly Sensitive Person (HSP) who finds it hard to say no? Do you struggle to set boundaries without guilt\, or feel overwhelmed by other people’s needs and expectations? You’re not alone—and there is a way through. \nIn this special 90-minute session\, Barbara Allen-Williams\, International Consultant on High Sensitivity (ICHS)\, Author & HSP Mentor\, will guide us through the topic of people-pleasing as an HSP\, offering insight\, reframe and direction to help you move from self-sacrifice to self-respect. \n🗓 Session Structure: \n15-minute scene setting by Barbara on why HSPs are more vulnerable to people-pleasing—and how to change it. \n30-minute break-out discussions in small\, supportive groups to reflect and share. \n30-minute group feedback and collective insight-gathering. \n15-minute final questions and wrap up to explore your personal challenges and questions. \n  \nThis is an HSPconnect.app event. Included in your ticket is a 3 day trial of HSPconnect.app \n  \nGet Tickets
URL:https://cindygalehsp.com/event/reduce-people-pleasing-as-a-highly-sensitive-person-and-reclaim-your-life/
LOCATION:Online
ATTACH;FMTTYPE=image/png:https://cindygalehsp.com/wp-content/uploads/2025/06/Screenshot-2025-06-20-at-09.44.27-e1750409150611.png
ORGANIZER;CN="Cindy Gale":MAILTO:cindy@cindygalehsp.com
END:VEVENT
END:VCALENDAR