BEGIN:VCALENDAR
VERSION:2.0
PRODID:-//Cindy Gale - ECPv6.15.20//NONSGML v1.0//EN
CALSCALE:GREGORIAN
METHOD:PUBLISH
X-WR-CALNAME:Cindy Gale
X-ORIGINAL-URL:https://cindygalehsp.com
X-WR-CALDESC:Events for Cindy Gale
REFRESH-INTERVAL;VALUE=DURATION:PT1H
X-Robots-Tag:noindex
X-PUBLISHED-TTL:PT1H
BEGIN:VTIMEZONE
TZID:UTC
BEGIN:STANDARD
TZOFFSETFROM:+0000
TZOFFSETTO:+0000
TZNAME:UTC
DTSTART:20240101T000000
END:STANDARD
END:VTIMEZONE
BEGIN:VEVENT
DTSTART;TZID=UTC:20250710T180000
DTEND;TZID=UTC:20250710T193000
DTSTAMP:20260424T050429
CREATED:20250620T085042Z
LAST-MODIFIED:20250620T094801Z
UID:3241-1752170400-1752175800@cindygalehsp.com
SUMMARY:Designing a Portfolio Career: How Highly Sensitive People Can Thrive
DESCRIPTION:Get Tickets \n\n\nThe world of work is changing fast and for many Highly Sensitive People this could be an opportunity.In this interactive session\, career coach and fellow HSP Charlotte Del Signore will guide you through the concept of a portfolio career: a mix of income streams that better suits your energy\, values\, and lifestyle. Whether you’ve been dreaming of self-employment\, craving more freedom\, or simply wondering how to survive in a chaotic economy\, this session is for you. \nYou’ll learn: \n● Why traditional jobs often fail HSPs \n● How portfolio careers offer autonomy\, sustainability\, and creative flow \n● Ways to start small\, with no pressure to have it all figured outThe session will include a short talk\, breakouts in small groups\, guided prompts\, and a chance to map out one idea to explore after the call.This is an HSPconnect.app event. \nIncluded in the ticket is a 3 day free trial of HSPconnect.appCharlotte Del Signore is a certified career coach for generalists\, highly sensitive people (HSPs)\, and deep thinkers who want meaningful work without burnout. With a background in coaching\, theatre\, and mindfulness\, Charlotte helps clients design careers that honour their values\, energy\, and complexity. She’s also neurodivergent\, highly sensitive\, AI-literate and climate-aware\, blending strategic thinking with deep empathy to support those navigating a rapidly changing world of work. \n\n\n\n\n\n\n\n\n\n\n\nCharlotte Del Signore \n\nGet Tickets
URL:https://cindygalehsp.com/event/designing-a-portfolio-career-how-highly-sensitive-people-can-thrive/
LOCATION:Online
ATTACH;FMTTYPE=image/png:https://cindygalehsp.com/wp-content/uploads/2025/06/thrive.png
ORGANIZER;CN="Cindy Gale":MAILTO:cindy@cindygalehsp.com
END:VEVENT
END:VCALENDAR