BEGIN:VCALENDAR
VERSION:2.0
PRODID:-//Cindy Gale - ECPv6.15.20//NONSGML v1.0//EN
CALSCALE:GREGORIAN
METHOD:PUBLISH
X-ORIGINAL-URL:https://cindygalehsp.com
X-WR-CALDESC:Events for Cindy Gale
REFRESH-INTERVAL;VALUE=DURATION:PT1H
X-Robots-Tag:noindex
X-PUBLISHED-TTL:PT1H
BEGIN:VTIMEZONE
TZID:UTC
BEGIN:STANDARD
TZOFFSETFROM:+0000
TZOFFSETTO:+0000
TZNAME:UTC
DTSTART:20250101T000000
END:STANDARD
END:VTIMEZONE
BEGIN:VEVENT
DTSTART;TZID=UTC:20260125T173000
DTEND;TZID=UTC:20260125T190000
DTSTAMP:20260423T214447
CREATED:20251028T102455Z
LAST-MODIFIED:20251028T102455Z
UID:3446-1769362200-1769367600@cindygalehsp.com
SUMMARY:The Highly Sensitive Person's Book Group "Wintering - part 3"
DESCRIPTION:Get Tickets \n\n\n\n\n\n\n\n\nAs the new year begins\, January invites us to sink deeply into rest — the kind that heals rather than merely pauses. \nIn this third Wintering circle\, “Learning to Rest”\, we turn to the heart of Katherine May’s reflections on hibernation\, nourishment\, and the quiet work of renewal. \nTogether we’ll explore what it means to stop striving\, to listen to the body’s wisdom\, and to allow stillness to do its slow\, invisible work. Expect a warm and gentle space for conversation\, ritual\, reflection\, and guided rest. \nBefore this session\, please read: \n\nJanuary: Darkness and Hunger\nFebruary: Snow and Cold Water\n\nThemes in these chapters are: Hibernation and endurance\, the wisdom of the body\, deep rest as restoration\, and the quiet power of survival. \nThese groups are free for members of HSPconnect.app \nIf you decide to join HSPconnect.app after the event\, you’ll get a £10 discount code (the cost of your ticket\, minus the Eventbrite fee). This means you can join for £39 instead of the usual £49 for a full year’s membership. Limited to one code per person. \nThis is part 3 of a 4-month book journey through Wintering by Katherine May. Sessions will be held on the last Sunday of the month in November\, December\, January and February. \nThere is an in-person small group day retreat on Saturday 3rd January 2026. A gentle day of rest and renewal inspired by Wintering — blending nature connection\, reflection\, and community in a cosy\, nurturing setting.
URL:https://cindygalehsp.com/event/wintering-2-2/
LOCATION:Online
ATTACH;FMTTYPE=image/jpeg:https://cindygalehsp.com/wp-content/uploads/2025/10/wintering.jpeg
ORGANIZER;CN="Cindy Gale":MAILTO:cindy@cindygalehsp.com
END:VEVENT
END:VCALENDAR