BEGIN:VCALENDAR
VERSION:2.0
PRODID:-//Cindy Gale - ECPv6.15.20//NONSGML v1.0//EN
CALSCALE:GREGORIAN
METHOD:PUBLISH
X-WR-CALNAME:Cindy Gale
X-ORIGINAL-URL:https://cindygalehsp.com
X-WR-CALDESC:Events for Cindy Gale
REFRESH-INTERVAL;VALUE=DURATION:PT1H
X-Robots-Tag:noindex
X-PUBLISHED-TTL:PT1H
BEGIN:VTIMEZONE
TZID:UTC
BEGIN:STANDARD
TZOFFSETFROM:+0000
TZOFFSETTO:+0000
TZNAME:UTC
DTSTART:20230101T000000
END:STANDARD
END:VTIMEZONE
BEGIN:VEVENT
DTSTART;TZID=UTC:20240629T150000
DTEND;TZID=UTC:20240629T170000
DTSTAMP:20260424T220629
CREATED:20240609T145115Z
LAST-MODIFIED:20240609T145225Z
UID:2938-1719673200-1719680400@cindygalehsp.com
SUMMARY:Highly Sensitive Person Café
DESCRIPTION:Buy Tickets \n  \nAre you someone who notices the subtle hues of emotions\, feels the symphony of the surroundings\, and often finds solace in the quiet corners of your mind? You might be a Highly Sensitive Person\, and this drop-in café is your refuge. \nStep into a space crafted with care\, understanding\, and warmth\, where we invite you to embrace your unique trait and connect with kindred spirits who understand the beauty of depth and the strength in vulnerability. In our HSP Café\, conversations flow and connections are forged on the common ground of shared sensitivity. Whether you seek a moment of quiet reflection\, a heart-to-heart with fellow HSPs\, or just the comfort of knowing you’re not alone\, our doors are wide open for you. \nCome\, join us for a cuppa in an atmosphere where being sensitive is not just accepted but celebrated. Ask questions\, share experiences\, or just listen. The HSP Café is more than a space; it’s a community\, a haven\, and a reminder that sensitivity is a beautiful facet of the human experience. \nThe café will be gently facilitated by Tej and Cindy. Come and drop in anytime and stay for as long or as little as you like. It is very relaxed and there is no pressure to join in and chat\, you are welcome to be with us and listen if you prefer. \nHow to find us \nWe have tables reserved at the back of Roasta\, 3 Terminus Rd\, Brighton\, BN1 3PD. I’ll have signs on the tables so you wont miss us. \nEvent fee \nFree but please register to get a ticket as numbers are limited. \nWhat is High Sensitivity? \nDiscovered by Dr. Elaine Aron 25 years ago\, her research revealed that this trait is found in 20% of all people. It’s characterised by a finely tuned nervous system and an acute awareness of subtleties. It’s not just a personality quirk; it’s a neurological difference that brings with it a unique set of strengths and challenges. HSPs process the world around them very deeply\, have strong emotional responses and are naturally very empathic. HSPs get overstimulated easily and often have sensory sensitivity to things such as food\, noise\, lighting etc. \nIf you’re curious about the HSP trait you can take the self-test here. HSPs are known as Orchids in this model. \n  \nAbout Teji: \nTeji (“Tay-gee”) is an HSP living in Brighton for about 20 years. His heritage is Indian but he’s really from London. He works as a teacher and enjoys writing\, acting\, football and volleyball. \nHis life has included addiction\, dysfunction and struggle in all areas. He manages these things with medication\, therapy\, 12 step work and a certain panache. \n  \nAbout Cindy: \nI’m an HSP\, a psychotherapist and I know from my own and other’s experiences how vital it is for HSPs to meet other HSPs to validate and normalise the trait. I’ve have been working with HSPs for 10 years supporting them to flourish\, understand and harmonise their relationship with themselves and others. \nI founded the community membership group HSPconnect.uk for HSPs to find others\, connect and build friendships. I also hold therapeutic sharing circles for HSPs within the group.
URL:https://cindygalehsp.com/event/highly-sensitive-person-cafe-2/
LOCATION:Roasta\, 3 Terminus Road\, Brighton and Hove\, BN1 3PD\, United Kingdom
ATTACH;FMTTYPE=image/jpeg:https://cindygalehsp.com/wp-content/uploads/2024/03/https-cdn.evbuc_.com-images-710244979-87412128479-1-original.20240303-150538.jpeg
ORGANIZER;CN="Cindy Gale":MAILTO:cindy@cindygalehsp.com
END:VEVENT
BEGIN:VEVENT
DTSTART;TZID=UTC:20240630T181500
DTEND;TZID=UTC:20240630T211500
DTSTAMP:20260424T220629
CREATED:20240610T200038Z
LAST-MODIFIED:20240610T200106Z
UID:2946-1719771300-1719782100@cindygalehsp.com
SUMMARY:Opera on the Balcony\, Guildford Fringe Festival
DESCRIPTION:Join Tricia for a free outdoor opera followed by a drink or coffee in Guildford. (Let’s hope for good weather) \nOpera on the Balcony – Guildford Fringe Festival \nThe Guildhall balcony becomes the stage for a free evening of Opera on the Balcony once again. \nWe will be bringing you arias and duets from well-loved composers such as Puccini\, Verdi\, Mozart\, Lehár and many more. They’ll sing joyously into the warm\, evening air and you can sit back\, enjoy a chilled glass of something from the Guildford Fringe bar and let the music wash over you. \nBring a blanket or chair and enjoy this unique\, free event on Guildford’s High Street. \nYou are not permitted to bring your own alcohol to this event; there will be a bar available from which to purchase drinks. \nThis event is sponsored by Experience Guildford. \nThere is no need to book for this event but do email me to let me know to expect you – tricia222@hotmail.co.uk \nI look forward to meeting you there. \nTricia
URL:https://cindygalehsp.com/event/opera-on-the-balcony/
LOCATION:Guildford Fringe Festival\, High Street\, Guildford\, United Kingdom
ATTACH;FMTTYPE=image/png:https://cindygalehsp.com/wp-content/uploads/2024/06/Picture-1.png
ORGANIZER;CN="Tricia":MAILTO:tricia222@hotmail.co.uk
END:VEVENT
END:VCALENDAR