BEGIN:VCALENDAR
VERSION:2.0
PRODID:-//Cindy Gale - ECPv6.15.20//NONSGML v1.0//EN
CALSCALE:GREGORIAN
METHOD:PUBLISH
X-ORIGINAL-URL:https://cindygalehsp.com
X-WR-CALDESC:Events for Cindy Gale
REFRESH-INTERVAL;VALUE=DURATION:PT1H
X-Robots-Tag:noindex
X-PUBLISHED-TTL:PT1H
BEGIN:VTIMEZONE
TZID:UTC
BEGIN:STANDARD
TZOFFSETFROM:+0000
TZOFFSETTO:+0000
TZNAME:UTC
DTSTART:20240101T000000
END:STANDARD
END:VTIMEZONE
BEGIN:VEVENT
DTSTART;TZID=UTC:20251228T173000
DTEND;TZID=UTC:20251228T190000
DTSTAMP:20260423T214611
CREATED:20251028T102223Z
LAST-MODIFIED:20251028T102223Z
UID:3444-1766943000-1766948400@cindygalehsp.com
SUMMARY:The Highly Sensitive Person's Book Group "Wintering - part 2"
DESCRIPTION:Get Tickets \n\n\n\n\n\n\n\n\nAs we’ve moved past solstice\, we gather to honour the beauty of stillness and shadow\, and what flirts with our awareness. \nIn this second Wintering circle\, “Finding Light in the Longest Night”\, we’ll explore the chapters where Katherine May turns toward the wisdom of darkness — the stories\, myths\, and quiet rituals that help us make peace with winter’s depth. \nWe’ll reflect\, light candles\, and notice the subtle signs within us and around us\, at this time of the longest night. \nBefore this session\, please read: \n\nNovember: Metamorphosis and Slumber\nDecember: Light\, Midwinter and Epiphany\n\nThemes in these chapters are: Darkness as teacher\, the power of storytelling\, the solstice as threshold\, and finding stillness in the depths of winter. \nThese groups are free for members of HSPconnect.app \nIf you decide to join HSPconnect.app after the event\, you’ll get a £10 discount code (the cost of your ticket\, minus the Eventbrite fee). This means you can join for £39 instead of the usual £49 for a full year’s membership. Limited to one code per person. \nThis is part 2 of a 4-month book journey through Wintering by Katherine May. Sessions will be held on the last Sunday of the month in November\, December\, January and February. \nThere is an in-person small group day retreat on Saturday 3rd January 2026. A gentle day of rest and renewal inspired by Wintering — blending nature connection\, reflection\, and community in a cosy\, nurturing setting.
URL:https://cindygalehsp.com/event/wintering-2/
LOCATION:Online
ATTACH;FMTTYPE=image/jpeg:https://cindygalehsp.com/wp-content/uploads/2025/10/wintering.jpeg
ORGANIZER;CN="Cindy Gale":MAILTO:cindy@cindygalehsp.com
END:VEVENT
END:VCALENDAR